This page was generated on 2021-01-17 11:48:53 -0500 (Sun, 17 Jan 2021).
flowTrans 1.42.0 Greg Finak
Snapshot Date: 2021-01-16 14:41:12 -0500 (Sat, 16 Jan 2021) |
URL: https://git.bioconductor.org/packages/flowTrans |
Branch: RELEASE_3_12 |
Last Commit: b7efe1a |
Last Changed Date: 2020-10-27 10:38:16 -0500 (Tue, 27 Oct 2020) |
| malbec1 | Linux (Ubuntu 18.04.5 LTS) / x86_64 | OK | OK | OK | |  |
nebbiolo1 | Linux (Ubuntu 20.04.1 LTS) / x86_64 | OK | OK | OK | | |
tokay1 | Windows Server 2012 R2 Standard / x64 | OK | OK | OK | OK |  |
merida1 | macOS 10.14.6 Mojave / x86_64 | OK | OK | OK | OK |  |