This page was generated on 2021-01-24 11:48:48 -0500 (Sun, 24 Jan 2021).
flowSpy 1.4.0 Yuting Dai
Snapshot Date: 2021-01-23 14:40:16 -0500 (Sat, 23 Jan 2021) |
URL: https://git.bioconductor.org/packages/flowSpy |
Branch: RELEASE_3_12 |
Last Commit: e8ba381 |
Last Changed Date: 2020-10-27 11:50:57 -0500 (Tue, 27 Oct 2020) |
| malbec1 | Linux (Ubuntu 18.04.5 LTS) / x86_64 | OK | OK | WARNINGS | |  |
nebbiolo1 | Linux (Ubuntu 20.04.1 LTS) / x86_64 | OK | OK | WARNINGS | | |
tokay1 | Windows Server 2012 R2 Standard / x64 | OK | OK | WARNINGS | OK |  |
merida1 | macOS 10.14.6 Mojave / x86_64 | OK | OK | WARNINGS | OK |  |