![]() | Name | Last modified | Size | Description |
---|---|---|---|---|
![]() | Parent Directory | - | ||
![]() | buildsrc-out.txt | 29-Sep-2023 00:35 | 907 | |
![]() | buildsrc-summary.dcf | 29-Sep-2023 00:35 | 422 | |
![]() | checksrc-out.txt | 29-Sep-2023 00:35 | 7.2K | |
![]() | checksrc-summary.dcf | 29-Sep-2023 00:35 | 427 | |
![]() | install-out.txt | 29-Sep-2023 00:35 | 3.7K | |
![]() | install-summary.dcf | 29-Sep-2023 00:35 | 263 | |