Index of /checkResults/release/bioc-LATEST/flowPeaks/raw-results

[ICO]NameLast modifiedSizeDescription

[DIR]Parent Directory  -  
[DIR]palomino3/08-Jun-2023 00:06 -  
[DIR]nebbiolo1/08-Jun-2023 00:05 -  
[DIR]merida1/08-Jun-2023 00:06 -  
[   ]info.dcf08-Jun-2023 00:06 275