Index of /checkResults/release/bioc-LATEST/flowMerge/raw-results/nebbiolo1

[ICO]NameLast modifiedSizeDescription

[DIR]Parent Directory  -  
[   ]install-summary.dcf20-Jul-2024 06:37 263  
[TXT]install-out.txt20-Jul-2024 06:37 958  
[   ]checksrc-summary.dcf20-Jul-2024 06:37 428  
[TXT]checksrc-out.txt20-Jul-2024 06:37 6.5K 
[   ]buildsrc-summary.dcf20-Jul-2024 06:37 423  
[TXT]buildsrc-out.txt20-Jul-2024 06:37 877