Index of /checkResults/release/bioc-LATEST/flowMerge/raw-results/lconway

[ICO]NameLast modifiedSizeDescription

[DIR]Parent Directory  -  
[TXT]buildbin-out.txt31-May-2024 00:35 1.2K 
[   ]buildbin-summary.dcf31-May-2024 00:35 542  
[TXT]buildsrc-out.txt31-May-2024 00:35 887  
[   ]buildsrc-summary.dcf31-May-2024 00:35 433  
[TXT]checksrc-out.txt31-May-2024 00:35 6.6K 
[   ]checksrc-summary.dcf31-May-2024 00:35 458  
[TXT]install-out.txt31-May-2024 00:35 1.0K 
[   ]install-summary.dcf31-May-2024 00:35 273