Name | Last modified | Size | Description | |
---|---|---|---|---|
Parent Directory | - | |||
install-out.txt | 05-Mar-2024 01:39 | 2.7K | ||
install-summary.dcf | 05-Mar-2024 01:39 | 273 | ||
buildsrc-out.txt | 05-Mar-2024 01:39 | 854 | ||
buildsrc-summary.dcf | 05-Mar-2024 01:39 | 434 | ||
checksrc-out.txt | 05-Mar-2024 01:39 | 4.9K | ||
checksrc-summary.dcf | 05-Mar-2024 01:39 | 452 | ||
buildbin-summary.dcf | 05-Mar-2024 01:39 | 542 | ||
buildbin-out.txt | 05-Mar-2024 01:39 | 4.9K | ||