Index of /checkResults/release/bioc-LATEST/flowCore/raw-results/tokay2

[ICO]NameLast modifiedSizeDescription

[DIR]Parent Directory  -  
[TXT]buildbin-out.txt15-Jan-2022 03:06 60K 
[   ]buildbin-summary.dcf15-Jan-2022 03:06 543  
[TXT]buildsrc-out.txt15-Jan-2022 03:06 1.3K 
[   ]buildsrc-summary.dcf15-Jan-2022 03:06 460  
[TXT]checksrc-out.txt15-Jan-2022 03:06 6.5K 
[   ]checksrc-summary.dcf15-Jan-2022 03:06 464  
[TXT]install-out.txt15-Jan-2022 03:06 60K 
[   ]install-summary.dcf15-Jan-2022 03:06 644