Index of /checkResults/release/bioc-LATEST/flowCore/raw-results/riesling1

[ICO]NameLast modifiedSizeDescription

[DIR]Parent Directory  -  
[TXT]buildbin-out.txt19-Mar-2022 00:07 33K 
[   ]buildbin-summary.dcf19-Mar-2022 00:07 519  
[TXT]buildsrc-out.txt19-Mar-2022 00:07 1.3K 
[   ]buildsrc-summary.dcf19-Mar-2022 00:07 455  
[TXT]checksrc-out.txt19-Mar-2022 00:07 5.0K 
[   ]checksrc-summary.dcf19-Mar-2022 00:07 449  
[TXT]install-out.txt19-Mar-2022 00:07 33K 
[   ]install-summary.dcf19-Mar-2022 00:07 270