Index of /checkResults/release/bioc-LATEST/flowCore/raw-results/nebbiolo1

[ICO]NameLast modifiedSizeDescription

[DIR]Parent Directory  -  
[TXT]buildsrc-out.txt02-Jul-2022 01:05 1.2K 
[   ]buildsrc-summary.dcf02-Jul-2022 01:05 419  
[TXT]checksrc-out.txt02-Jul-2022 01:05 4.7K 
[   ]checksrc-summary.dcf02-Jul-2022 01:05 426  
[TXT]install-out.txt02-Jul-2022 01:05 26K 
[   ]install-summary.dcf02-Jul-2022 01:05 260