Back to Multiple platform build/check report for BioC 3.14
ABCDE[F]GHIJKLMNOPQRSTUVWXYZ

This page was generated on 2022-01-24 13:06:14 -0500 (Mon, 24 Jan 2022).

HostnameOSArch (*)R versionInstalled pkgs
nebbiolo2Linux (Ubuntu 20.04.4 LTS)x86_644.1.2 (2021-11-01) -- "Bird Hippie" 4329
tokay2Windows Server 2012 R2 Standardx644.1.2 (2021-11-01) -- "Bird Hippie" 4080
machv2macOS 10.14.6 Mojavex86_644.1.2 (2021-11-01) -- "Bird Hippie" 4141
Click on any hostname to see more info about the system (e.g. compilers)      (*) as reported by 'uname -p', except on Windows and Mac OS X

CHECK results for ffpe on tokay2


To the developers/maintainers of the ffpe package:
- Please allow up to 24 hours (and sometimes 48 hours) for your latest push to git@git.bioconductor.org:packages/ffpe.git to
reflect on this report. See How and When does the builder pull? When will my changes propagate? here for more information.
- Make sure to use the following settings in order to reproduce any error or warning you see on this page.

raw results

Package 637/2083HostnameOS / ArchINSTALLBUILDCHECKBUILD BIN
ffpe 1.38.0  (landing page)
Levi Waldron
Snapshot Date: 2022-01-23 01:55:04 -0500 (Sun, 23 Jan 2022)
git_url: https://git.bioconductor.org/packages/ffpe
git_branch: RELEASE_3_14
git_last_commit: 8c9afae
git_last_commit_date: 2021-10-26 12:02:18 -0500 (Tue, 26 Oct 2021)
nebbiolo2Linux (Ubuntu 20.04.4 LTS) / x86_64  OK    OK    OK  UNNEEDED, same version is already published
tokay2Windows Server 2012 R2 Standard / x64  OK    OK    OK    OK  UNNEEDED, same version is already published
machv2macOS 10.14.6 Mojave / x86_64  OK    OK    OK    OK  UNNEEDED, same version is already published

Summary

Package: ffpe
Version: 1.38.0
Command: C:\Users\biocbuild\bbs-3.14-bioc\R\bin\R.exe CMD check --force-multiarch --install=check:ffpe.install-out.txt --library=C:\Users\biocbuild\bbs-3.14-bioc\R\library --no-vignettes --timings ffpe_1.38.0.tar.gz
StartedAt: 2022-01-23 19:09:52 -0500 (Sun, 23 Jan 2022)
EndedAt: 2022-01-23 19:16:51 -0500 (Sun, 23 Jan 2022)
EllapsedTime: 419.0 seconds
RetCode: 0
Status:   OK  
CheckDir: ffpe.Rcheck
Warnings: 0

Command output

##############################################################################
##############################################################################
###
### Running command:
###
###   C:\Users\biocbuild\bbs-3.14-bioc\R\bin\R.exe CMD check --force-multiarch --install=check:ffpe.install-out.txt --library=C:\Users\biocbuild\bbs-3.14-bioc\R\library --no-vignettes --timings ffpe_1.38.0.tar.gz
###
##############################################################################
##############################################################################


* using log directory 'C:/Users/biocbuild/bbs-3.14-bioc/meat/ffpe.Rcheck'
* using R version 4.1.2 (2021-11-01)
* using platform: x86_64-w64-mingw32 (64-bit)
* using session charset: ISO8859-1
* using option '--no-vignettes'
* checking for file 'ffpe/DESCRIPTION' ... OK
* checking extension type ... Package
* this is package 'ffpe' version '1.38.0'
* checking package namespace information ... OK
* checking package dependencies ... OK
* checking if this is a source package ... OK
* checking if there is a namespace ... OK
* checking for hidden files and directories ... OK
* checking for portable file names ... OK
* checking whether package 'ffpe' can be installed ... OK
* checking installed package size ... OK
* checking package directory ... OK
* checking 'build' directory ... OK
* checking DESCRIPTION meta-information ... OK
* checking top-level files ... OK
* checking for left-over files ... OK
* checking index information ... OK
* checking package subdirectories ... OK
* checking R files for non-ASCII characters ... OK
* checking R files for syntax errors ... OK
* loading checks for arch 'i386'
** checking whether the package can be loaded ... OK
** checking whether the package can be loaded with stated dependencies ... OK
** checking whether the package can be unloaded cleanly ... OK
** checking whether the namespace can be loaded with stated dependencies ... OK
** checking whether the namespace can be unloaded cleanly ... OK
* loading checks for arch 'x64'
** checking whether the package can be loaded ... OK
** checking whether the package can be loaded with stated dependencies ... OK
** checking whether the package can be unloaded cleanly ... OK
** checking whether the namespace can be loaded with stated dependencies ... OK
** checking whether the namespace can be unloaded cleanly ... OK
* checking dependencies in R code ... OK
* checking S3 generic/method consistency ... OK
* checking replacement functions ... OK
* checking foreign function calls ... OK
* checking R code for possible problems ... NOTE
CATplot: no visible global function definition for 'abline'
sampleQC,matrix : makeplots: no visible global function definition for
  'cor'
sampleQC,matrix : makeplots: no visible global function definition for
  'median'
sampleQC,matrix : makeplots: no visible binding for global variable
  'median'
sampleQC,matrix : makeplots: no visible global function definition for
  'na.omit'
sampleQC,matrix : makeplots: no visible global function definition for
  'loess'
sampleQC,matrix : makeplots: no visible global function definition for
  'predict'
sampleQC,matrix : makeplots: no visible global function definition for
  'IQR'
sampleQC,matrix : makeplots: no visible global function definition for
  'abline'
sampleQC,matrix : makeplots: no visible global function definition for
  'legend'
sampleQC,matrix : makeplots: no visible global function definition for
  'lines'
sampleQC,matrix: no visible binding for global variable 'IQR'
sampleQC,matrix: no visible global function definition for 'na.omit'
sortedIqrPlot,matrix: no visible binding for global variable 'quantile'
sortedIqrPlot,matrix: no visible global function definition for
  'segments'
sortedIqrPlot,matrix: no visible binding for global variable 'IQR'
Undefined global functions or variables:
  IQR abline cor legend lines loess median na.omit predict quantile
  segments
Consider adding
  importFrom("graphics", "abline", "legend", "lines", "segments")
  importFrom("stats", "IQR", "cor", "loess", "median", "na.omit",
             "predict", "quantile")
to your NAMESPACE file.
* checking Rd files ... OK
* checking Rd metadata ... OK
* checking Rd cross-references ... OK
* checking for missing documentation entries ... OK
* checking for code/documentation mismatches ... OK
* checking Rd \usage sections ... OK
* checking Rd contents ... OK
* checking for unstated dependencies in examples ... OK
* checking files in 'vignettes' ... OK
* checking examples ...
** running examples for arch 'i386' ... OK
Examples with CPU (user + system) or elapsed time > 5s
             user system elapsed
CATplot      6.14   0.66   25.65
ffpe-package 3.43   0.31    8.61
** running examples for arch 'x64' ... OK
Examples with CPU (user + system) or elapsed time > 5s
             user system elapsed
ffpe-package 3.93   0.19    6.11
* checking for unstated dependencies in vignettes ... OK
* checking package vignettes in 'inst/doc' ... OK
* checking running R code from vignettes ... SKIPPED
* checking re-building of vignette outputs ... SKIPPED
* checking PDF version of manual ... OK
* DONE

Status: 1 NOTE
See
  'C:/Users/biocbuild/bbs-3.14-bioc/meat/ffpe.Rcheck/00check.log'
for details.



Installation output

ffpe.Rcheck/00install.out

##############################################################################
##############################################################################
###
### Running command:
###
###   C:\cygwin\bin\curl.exe -O http://155.52.207.166/BBS/3.14/bioc/src/contrib/ffpe_1.38.0.tar.gz && rm -rf ffpe.buildbin-libdir && mkdir ffpe.buildbin-libdir && C:\Users\biocbuild\bbs-3.14-bioc\R\bin\R.exe CMD INSTALL --merge-multiarch --build --library=ffpe.buildbin-libdir ffpe_1.38.0.tar.gz && C:\Users\biocbuild\bbs-3.14-bioc\R\bin\R.exe CMD INSTALL ffpe_1.38.0.zip && rm ffpe_1.38.0.tar.gz ffpe_1.38.0.zip
###
##############################################################################
##############################################################################


  % Total    % Received % Xferd  Average Speed   Time    Time     Time  Current
                                 Dload  Upload   Total   Spent    Left  Speed

  0     0    0     0    0     0      0      0 --:--:-- --:--:-- --:--:--     0
100 15301  100 15301    0     0   129k      0 --:--:-- --:--:-- --:--:--  131k

install for i386

* installing *source* package 'ffpe' ...
** using staged installation
** R
** inst
** byte-compile and prepare package for lazy loading
No methods found in package 'RSQLite' for request: 'dbListFields' when loading 'lumi'
** help
*** installing help indices
  converting help for package 'ffpe'
    finding HTML links ... done
    CATplot                                 html  
    ffpe-package                            html  
    sampleQC                                html  
    sortedIqrPlot                           html  
** building package indices
** installing vignettes
** testing if installed package can be loaded from temporary location
No methods found in package 'RSQLite' for request: 'dbListFields' when loading 'lumi'
** testing if installed package can be loaded from final location
No methods found in package 'RSQLite' for request: 'dbListFields' when loading 'lumi'
** testing if installed package keeps a record of temporary installation path

install for x64

* installing *source* package 'ffpe' ...
** testing if installed package can be loaded
No methods found in package 'RSQLite' for request: 'dbListFields' when loading 'lumi'
* MD5 sums
packaged installation of 'ffpe' as ffpe_1.38.0.zip
* DONE (ffpe)
* installing to library 'C:/Users/biocbuild/bbs-3.14-bioc/R/library'
package 'ffpe' successfully unpacked and MD5 sums checked

Tests output


Example timings

ffpe.Rcheck/examples_i386/ffpe-Ex.timings

nameusersystemelapsed
CATplot 6.14 0.6625.65
ffpe-package3.430.318.61
sampleQC3.840.174.02
sortedIqrPlot1.050.031.08

ffpe.Rcheck/examples_x64/ffpe-Ex.timings

nameusersystemelapsed
CATplot4.530.064.60
ffpe-package3.930.196.11
sampleQC4.200.114.31
sortedIqrPlot1.260.081.35