Index of /checkResults/release/bioc-LATEST/fcoex/raw-results/palomino4
Name
Last modified
Size
Description
Parent Directory
-
buildsrc-out.txt
30-Mar-2024 00:36
1.3K
buildsrc-summary.dcf
30-Mar-2024 00:36
362
install-out.txt
30-Mar-2024 00:36
1.7K
install-summary.dcf
30-Mar-2024 00:36
264