Index of /checkResults/release/bioc-LATEST/fcoex/raw-results/nebbiolo2
Name
Last modified
Size
Description
Parent Directory
-
buildsrc-out.txt
30-Mar-2024 00:35
1.3K
buildsrc-summary.dcf
30-Mar-2024 00:35
329
install-out.txt
30-Mar-2024 00:35
1.7K
install-summary.dcf
30-Mar-2024 00:35
255