Name | Last modified | Size | Description | |
---|---|---|---|---|
Parent Directory | - | |||
install-summary.dcf | 27-Jul-2024 06:38 | 259 | ||
install-out.txt | 27-Jul-2024 06:38 | 4.3K | ||
checksrc-summary.dcf | 27-Jul-2024 06:38 | 413 | ||
checksrc-out.txt | 27-Jul-2024 06:38 | 3.5K | ||
buildsrc-summary.dcf | 27-Jul-2024 06:38 | 417 | ||
buildsrc-out.txt | 27-Jul-2024 06:38 | 899 | ||