Name | Last modified | Size | Description | |
---|---|---|---|---|
Parent Directory | - | |||
install-summary.dcf | 24-Jul-2024 22:05 | 269 | ||
buildsrc-summary.dcf | 24-Jul-2024 22:05 | 427 | ||
checksrc-summary.dcf | 24-Jul-2024 22:05 | 444 | ||
buildbin-summary.dcf | 24-Jul-2024 22:05 | 530 | ||
buildsrc-out.txt | 24-Jul-2024 22:05 | 909 | ||
checksrc-out.txt | 24-Jul-2024 22:05 | 3.7K | ||
install-out.txt | 24-Jul-2024 22:05 | 4.2K | ||
buildbin-out.txt | 24-Jul-2024 22:05 | 6.2K | ||