Back to Multiple platform build/check report for BioC 3.14
ABCDE[F]GHIJKLMNOPQRSTUVWXYZ

This page was generated on 2022-01-14 13:06:22 -0500 (Fri, 14 Jan 2022).

HostnameOSArch (*)R versionInstalled pkgs
nebbiolo2Linux (Ubuntu 20.04.4 LTS)x86_644.1.2 (2021-11-01) -- "Bird Hippie" 4327
tokay2Windows Server 2012 R2 Standardx644.1.2 (2021-11-01) -- "Bird Hippie" 4076
machv2macOS 10.14.6 Mojavex86_644.1.2 (2021-11-01) -- "Bird Hippie" 4137
Click on any hostname to see more info about the system (e.g. compilers)      (*) as reported by 'uname -p', except on Windows and Mac OS X

BUILD BIN results for fastLiquidAssociation on tokay2


To the developers/maintainers of the fastLiquidAssociation package:
- Please allow up to 24 hours (and sometimes 48 hours) for your latest push to git@git.bioconductor.org:packages/fastLiquidAssociation.git to
reflect on this report. See How and When does the builder pull? When will my changes propagate? here for more information.
- Make sure to use the following settings in order to reproduce any error or warning you see on this page.

raw results

Package 625/2083HostnameOS / ArchINSTALLBUILDCHECKBUILD BIN
fastLiquidAssociation 1.30.0  (landing page)
Tina Gunderson
Snapshot Date: 2022-01-13 01:55:04 -0500 (Thu, 13 Jan 2022)
git_url: https://git.bioconductor.org/packages/fastLiquidAssociation
git_branch: RELEASE_3_14
git_last_commit: 59a3557
git_last_commit_date: 2021-10-26 12:13:35 -0500 (Tue, 26 Oct 2021)
nebbiolo2Linux (Ubuntu 20.04.4 LTS) / x86_64  OK    OK    WARNINGS  UNNEEDED, same version is already published
tokay2Windows Server 2012 R2 Standard / x64  OK    OK    WARNINGS    OK  UNNEEDED, same version is already published
machv2macOS 10.14.6 Mojave / x86_64  OK    OK    WARNINGS    OK  UNNEEDED, same version is already published

Summary

Package: fastLiquidAssociation
Version: 1.30.0
Command: rm -rf fastLiquidAssociation.buildbin-libdir && mkdir fastLiquidAssociation.buildbin-libdir && C:\Users\biocbuild\bbs-3.14-bioc\R\bin\R.exe CMD INSTALL --merge-multiarch --build --library=fastLiquidAssociation.buildbin-libdir fastLiquidAssociation_1.30.0.tar.gz
StartedAt: 2022-01-14 05:37:42 -0500 (Fri, 14 Jan 2022)
EndedAt: 2022-01-14 05:39:09 -0500 (Fri, 14 Jan 2022)
EllapsedTime: 87.0 seconds
RetCode: 0
Status:   OK  
PackageFile: fastLiquidAssociation_1.30.0.zip
PackageFileSize: 547.5 KiB

Command output

##############################################################################
##############################################################################
###
### Running command:
###
###   rm -rf fastLiquidAssociation.buildbin-libdir && mkdir fastLiquidAssociation.buildbin-libdir && C:\Users\biocbuild\bbs-3.14-bioc\R\bin\R.exe CMD INSTALL --merge-multiarch --build --library=fastLiquidAssociation.buildbin-libdir fastLiquidAssociation_1.30.0.tar.gz
###
##############################################################################
##############################################################################



install for i386

* installing *source* package 'fastLiquidAssociation' ...
** using staged installation
** R
** data
** inst
** byte-compile and prepare package for lazy loading
** help
*** installing help indices
  converting help for package 'fastLiquidAssociation'
    finding HTML links ... done
    fastLiquidAssociation-package           html  
    fastMLA-methods                         html  
    finding level-2 HTML links ... done

Rd warning: C:/Users/biocbuild/bbs-3.14-bioc/tmpdir/Rtmp4I6rLq/R.INSTALL97643b31d0c/fastLiquidAssociation/man/fastMLA-methods.Rd:59: missing link 'WGCNA'
    fastboots.GLA-methods                   html  
    mass.CNM-methods                        html  
    testmat                                 html  
** building package indices
** installing vignettes
** testing if installed package can be loaded from temporary location
** testing if installed package can be loaded from final location
** testing if installed package keeps a record of temporary installation path

install for x64

* installing *source* package 'fastLiquidAssociation' ...
** testing if installed package can be loaded
* MD5 sums
packaged installation of 'fastLiquidAssociation' as fastLiquidAssociation_1.30.0.zip
* DONE (fastLiquidAssociation)