Name | Last modified | Size | Description | |
---|---|---|---|---|
Parent Directory | - | |||
buildbin-out.txt | 30-Mar-2024 00:36 | 3.9K | ||
buildbin-summary.dcf | 30-Mar-2024 00:36 | 503 | ||
buildsrc-out.txt | 30-Mar-2024 00:36 | 936 | ||
buildsrc-summary.dcf | 30-Mar-2024 00:36 | 444 | ||
checksrc-out.txt | 30-Mar-2024 00:36 | 11K | ||
checksrc-summary.dcf | 30-Mar-2024 00:36 | 444 | ||
install-out.txt | 30-Mar-2024 00:36 | 3.8K | ||
install-summary.dcf | 30-Mar-2024 00:36 | 264 | ||