Name | Last modified | Size | Description | |
---|---|---|---|---|
Parent Directory | - | |||
buildsrc-out.txt | 24-Jul-2024 22:03 | 1.0K | ||
buildsrc-summary.dcf | 24-Jul-2024 22:03 | 405 | ||
checksrc-out.txt | 24-Jul-2024 22:03 | 5.1K | ||
checksrc-summary.dcf | 24-Jul-2024 22:03 | 397 | ||
install-out.txt | 24-Jul-2024 22:03 | 1.7K | ||
install-summary.dcf | 24-Jul-2024 22:03 | 250 | ||