Back to Multiple platform build/check report for BioC 3.18:   simplified   long
ABCDE[F]GHIJKLMNOPQRSTUVWXYZ

This page was generated on 2024-02-22 11:36:45 -0500 (Thu, 22 Feb 2024).

HostnameOSArch (*)R versionInstalled pkgs
nebbiolo2Linux (Ubuntu 22.04.3 LTS)x86_644.3.2 Patched (2023-11-13 r85521) -- "Eye Holes" 4691
palomino4Windows Server 2022 Datacenterx644.3.2 (2023-10-31 ucrt) -- "Eye Holes" 4444
lconwaymacOS 12.7.1 Montereyx86_644.3.2 Patched (2023-11-01 r85457) -- "Eye Holes" 4465
Click on any hostname to see more info about the system (e.g. compilers)      (*) as reported by 'uname -p', except on Windows and Mac OS X

Package 697/2266HostnameOS / ArchINSTALLBUILDCHECKBUILD BIN
fCI 1.32.0  (landing page)
Shaojun Tang
Snapshot Date: 2024-02-21 14:05:05 -0500 (Wed, 21 Feb 2024)
git_url: https://git.bioconductor.org/packages/fCI
git_branch: RELEASE_3_18
git_last_commit: 28433e7
git_last_commit_date: 2023-10-24 10:44:04 -0500 (Tue, 24 Oct 2023)
nebbiolo2Linux (Ubuntu 22.04.3 LTS) / x86_64  OK    OK    OK  UNNEEDED, same version is already published
palomino4Windows Server 2022 Datacenter / x64  OK    OK    OK    OK  UNNEEDED, same version is already published
lconwaymacOS 12.7.1 Monterey / x86_64  OK    OK    OK    OK  UNNEEDED, same version is already published
kjohnson1macOS 13.6.1 Ventura / arm64see weekly results here

INSTALL results for fCI on palomino4


To the developers/maintainers of the fCI package:
- Allow up to 24 hours (and sometimes 48 hours) for your latest push to git@git.bioconductor.org:packages/fCI.git to reflect on this report. See Troubleshooting Build Report for more information.
- Use the following Renviron settings to reproduce errors and warnings.
- If 'R CMD check' started to fail recently on the Linux builder(s) over a missing dependency, add the missing dependency to 'Suggests:' in your DESCRIPTION file. See Renviron.bioc for more information.

raw results


Summary

Package: fCI
Version: 1.32.0
Command: F:\biocbuild\bbs-3.18-bioc\R\bin\R.exe CMD INSTALL fCI
StartedAt: 2024-02-21 16:05:36 -0500 (Wed, 21 Feb 2024)
EndedAt: 2024-02-21 16:05:48 -0500 (Wed, 21 Feb 2024)
EllapsedTime: 12.0 seconds
RetCode: 0
Status:   OK  

Command output

##############################################################################
##############################################################################
###
### Running command:
###
###   F:\biocbuild\bbs-3.18-bioc\R\bin\R.exe CMD INSTALL fCI
###
##############################################################################
##############################################################################


* installing to library 'F:/biocbuild/bbs-3.18-bioc/R/library'
* installing *source* package 'fCI' ...
** using staged installation
** R
** data
** inst
** byte-compile and prepare package for lazy loading
in method for 'initialize' with signature '"NPCI"': no definition for class "NPCI"
in method for 'normalization' with signature '"NPCI"': no definition for class "NPCI"
in method for 'setfCI' with signature '"NPCI"': no definition for class "NPCI"
in method for 'populate' with signature '"NPCI"': no definition for class "NPCI"
in method for 'find.fci.targets' with signature '"NPCI"': no definition for class "NPCI"
in method for 'show.targets' with signature '"NPCI"': no definition for class "NPCI"
in method for 'call.npci' with signature '"NPCI"': no definition for class "NPCI"
in method for 'compute' with signature '"NPCI"': no definition for class "NPCI"
** help
*** installing help indices
** building package indices
** installing vignettes
** testing if installed package can be loaded from temporary location
** testing if installed package can be loaded from final location
** testing if installed package keeps a record of temporary installation path
* DONE (fCI)