Name | Last modified | Size | Description | |
---|---|---|---|---|
Parent Directory | - | |||
install-out.txt | 12-Jun-2024 03:39 | 957 | ||
install-summary.dcf | 12-Jun-2024 03:39 | 256 | ||
buildsrc-out.txt | 12-Jun-2024 03:39 | 864 | ||
buildsrc-summary.dcf | 12-Jun-2024 03:39 | 412 | ||
checksrc-out.txt | 12-Jun-2024 03:39 | 3.5K | ||
checksrc-summary.dcf | 12-Jun-2024 03:39 | 408 | ||