Index of /checkResults/release/bioc-LATEST/esATAC/raw-results/palomino7
Name
Last modified
Size
Description
Parent Directory
-
buildsrc-out.txt
27-Jul-2024 06:39
938
buildsrc-summary.dcf
27-Jul-2024 06:39
364
install-out.txt
27-Jul-2024 06:39
616
install-summary.dcf
27-Jul-2024 06:39
268