Index of /checkResults/release/bioc-LATEST/esATAC/raw-results/palomino7
Name
Last modified
Size
Description
Parent Directory
-
buildsrc-out.txt
24-Jul-2024 22:04
938
buildsrc-summary.dcf
24-Jul-2024 22:04
364
install-out.txt
24-Jul-2024 22:04
616
install-summary.dcf
24-Jul-2024 22:04
268