Name | Last modified | Size | Description | |
---|---|---|---|---|
Parent Directory | - | |||
install-summary.dcf | 29-Jun-2024 06:41 | 268 | ||
install-out.txt | 29-Jun-2024 06:41 | 616 | ||
checksrc-summary.dcf | 17-Apr-2024 00:37 | 443 | ||
checksrc-out.txt | 17-Apr-2024 00:37 | 6.0K | ||
buildsrc-summary.dcf | 29-Jun-2024 06:41 | 364 | ||
buildsrc-out.txt | 29-Jun-2024 06:41 | 934 | ||
buildbin-summary.dcf | 17-Apr-2024 00:37 | 510 | ||
buildbin-out.txt | 17-Apr-2024 00:37 | 5.0K | ||