Name | Last modified | Size | Description | |
---|---|---|---|---|
Parent Directory | - | |||
buildsrc-out.txt | 01-Jun-2024 06:02 | 889 | ||
buildsrc-summary.dcf | 01-Jun-2024 06:02 | 407 | ||
checksrc-out.txt | 01-Jun-2024 06:02 | 4.2K | ||
checksrc-summary.dcf | 01-Jun-2024 06:02 | 402 | ||
install-out.txt | 01-Jun-2024 06:02 | 951 | ||
install-summary.dcf | 01-Jun-2024 06:02 | 253 | ||