Name | Last modified | Size | Description | |
---|---|---|---|---|
Parent Directory | - | |||
install-summary.dcf | 29-Jun-2024 06:41 | 285 | ||
checksrc-summary.dcf | 29-Jun-2024 06:41 | 481 | ||
buildsrc-summary.dcf | 29-Jun-2024 06:41 | 487 | ||
buildbin-summary.dcf | 29-Jun-2024 06:41 | 566 | ||
buildsrc-out.txt | 29-Jun-2024 06:41 | 943 | ||
install-out.txt | 29-Jun-2024 06:41 | 1.0K | ||
buildbin-out.txt | 29-Jun-2024 06:41 | 1.1K | ||
checksrc-out.txt | 29-Jun-2024 06:41 | 3.7K | ||