Index of /checkResults/release/bioc-LATEST/epimutacions/raw-results
Name
Last modified
Size
Description
Parent Directory
-
info.dcf
06-Aug-2022 03:19
292
merida1/
06-Aug-2022 03:19
-
nebbiolo1/
06-Aug-2022 03:19
-
palomino3/
04-Aug-2022 02:21
-