Index of /checkResults/release/bioc-LATEST/epihet/raw-results/nebbiolo2
Name
Last modified
Size
Description
Parent Directory
-
buildsrc-out.txt
21-Apr-2023 01:50
877
buildsrc-summary.dcf
21-Apr-2023 01:50
330
install-out.txt
21-Apr-2023 01:50
640
install-summary.dcf
21-Apr-2023 01:50
259