Name | Last modified | Size | Description | |
---|---|---|---|---|
Parent Directory | - | |||
buildbin-out.txt | 29-Jun-2024 06:41 | 8.2K | ||
buildbin-summary.dcf | 29-Jun-2024 06:41 | 528 | ||
buildsrc-out.txt | 29-Jun-2024 06:41 | 1.1K | ||
buildsrc-summary.dcf | 29-Jun-2024 06:41 | 460 | ||
checksrc-out.txt | 29-Jun-2024 06:41 | 4.8K | ||
checksrc-summary.dcf | 29-Jun-2024 06:41 | 455 | ||
install-out.txt | 29-Jun-2024 06:41 | 8.0K | ||
install-summary.dcf | 29-Jun-2024 06:41 | 273 | ||