Name | Last modified | Size | Description | |
---|---|---|---|---|
Parent Directory | - | |||
buildbin-out.txt | 27-Jul-2024 06:41 | 13K | ||
buildbin-summary.dcf | 27-Jul-2024 06:41 | 543 | ||
buildsrc-out.txt | 27-Jul-2024 06:41 | 1.1K | ||
buildsrc-summary.dcf | 27-Jul-2024 06:41 | 434 | ||
checksrc-out.txt | 27-Jul-2024 06:41 | 5.1K | ||
checksrc-summary.dcf | 27-Jul-2024 06:41 | 458 | ||
install-out.txt | 27-Jul-2024 06:41 | 9.2K | ||
install-summary.dcf | 27-Jul-2024 06:41 | 274 | ||