Back to Multiple platform build/check report for BioC 3.17:   simplified   long
ABCD[E]FGHIJKLMNOPQRSTUVWXYZ

This page was generated on 2023-09-27 11:36:23 -0400 (Wed, 27 Sep 2023).

HostnameOSArch (*)R versionInstalled pkgs
nebbiolo1Linux (Ubuntu 22.04.2 LTS)x86_644.3.1 (2023-06-16) -- "Beagle Scouts" 4625
palomino3Windows Server 2022 Datacenterx644.3.1 (2023-06-16 ucrt) -- "Beagle Scouts" 4378
merida1macOS 12.6.4 Montereyx86_644.3.1 (2023-06-16) -- "Beagle Scouts" 4394
Click on any hostname to see more info about the system (e.g. compilers)      (*) as reported by 'uname -p', except on Windows and Mac OS X

Package 641/2230HostnameOS / ArchINSTALLBUILDCHECKBUILD BIN
epigraHMM 1.8.2  (landing page)
Pedro Baldoni
Snapshot Date: 2023-09-26 14:00:14 -0400 (Tue, 26 Sep 2023)
git_url: https://git.bioconductor.org/packages/epigraHMM
git_branch: RELEASE_3_17
git_last_commit: e4cf2a0
git_last_commit_date: 2023-05-18 02:16:19 -0400 (Thu, 18 May 2023)
nebbiolo1Linux (Ubuntu 22.04.2 LTS) / x86_64  OK    OK    WARNINGS  UNNEEDED, same version is already published
palomino3Windows Server 2022 Datacenter / x64  OK    OK    OK    OK  UNNEEDED, same version is already published
merida1macOS 12.6.4 Monterey / x86_64  OK    OK    WARNINGS    OK  UNNEEDED, same version is already published

BUILD results for epigraHMM on palomino3


To the developers/maintainers of the epigraHMM package:
- Allow up to 24 hours (and sometimes 48 hours) for your latest push to git@git.bioconductor.org:packages/epigraHMM.git to reflect on this report. See Troubleshooting Build Report for more information.
- Use the following Renviron settings to reproduce errors and warnings.
- If 'R CMD check' started to fail recently on the Linux builder(s) over a missing dependency, add the missing dependency to 'Suggests:' in your DESCRIPTION file. See Renviron.bioc for more information.

raw results


Summary

Package: epigraHMM
Version: 1.8.2
Command: chmod a+r epigraHMM -R && F:\biocbuild\bbs-3.17-bioc\R\bin\R.exe CMD build --keep-empty-dirs --no-resave-data epigraHMM
StartedAt: 2023-09-26 19:00:47 -0400 (Tue, 26 Sep 2023)
EndedAt: 2023-09-26 19:25:29 -0400 (Tue, 26 Sep 2023)
EllapsedTime: 1482.2 seconds
RetCode: 0
Status:   OK  
PackageFile: epigraHMM_1.8.2.tar.gz
PackageFileSize: 493 KiB

Command output

##############################################################################
##############################################################################
###
### Running command:
###
###   chmod a+r epigraHMM -R && F:\biocbuild\bbs-3.17-bioc\R\bin\R.exe CMD build --keep-empty-dirs --no-resave-data epigraHMM
###
##############################################################################
##############################################################################


* checking for file 'epigraHMM/DESCRIPTION' ... OK
* preparing 'epigraHMM':
* checking DESCRIPTION meta-information ... OK
* cleaning src
* installing the package to build vignettes
* creating vignettes ... OK
* cleaning src
* checking for LF line-endings in source and make files and shell scripts
* checking for empty or unneeded directories
  NB: this package now depends on R (>= 3.5.0)
  WARNING: Added dependency on R >= 3.5.0 because serialized objects in
  serialize/load version 3 cannot be read in older versions of R.
  File(s) containing such objects:
    'epigraHMM/data/helas3.rda'
* building 'epigraHMM_1.8.2.tar.gz'