Back to Multiple platform build/check report for BioC 3.16:   simplified   long
ABCD[E]FGHIJKLMNOPQRSTUVWXYZ

This page was generated on 2023-03-24 11:05:26 -0400 (Fri, 24 Mar 2023).

HostnameOSArch (*)R versionInstalled pkgs
nebbiolo2Linux (Ubuntu 20.04.5 LTS)x86_644.2.3 (2023-03-15) -- "Shortstop Beagle" 4286
palomino4Windows Server 2022 Datacenterx644.2.3 (2023-03-15 ucrt) -- "Shortstop Beagle" 4276
lconwaymacOS 12.5.1 Montereyx86_644.2.3 (2023-03-15) -- "Shortstop Beagle" 4303
Click on any hostname to see more info about the system (e.g. compilers)      (*) as reported by 'uname -p', except on Windows and Mac OS X

CHECK results for epigraHMM on nebbiolo2


To the developers/maintainers of the epigraHMM package:
- Please allow up to 24 hours (and sometimes 48 hours) for your latest push to git@git.bioconductor.org:packages/epigraHMM.git to
reflect on this report. See How and When does the builder pull? When will my changes propagate? for more information.
- Make sure to use the following settings in order to reproduce any error or warning you see on this page.

raw results

Package 620/2183HostnameOS / ArchINSTALLBUILDCHECKBUILD BIN
epigraHMM 1.6.3  (landing page)
Pedro Baldoni
Snapshot Date: 2023-03-22 14:00:04 -0400 (Wed, 22 Mar 2023)
git_url: https://git.bioconductor.org/packages/epigraHMM
git_branch: RELEASE_3_16
git_last_commit: 01bf0d0
git_last_commit_date: 2023-03-08 18:27:57 -0400 (Wed, 08 Mar 2023)
nebbiolo2Linux (Ubuntu 20.04.5 LTS) / x86_64  OK    OK    OK  UNNEEDED, same version is already published
palomino4Windows Server 2022 Datacenter / x64  OK    OK    ERROR    OK  
lconwaymacOS 12.5.1 Monterey / x86_64  OK    OK    OK    OK  UNNEEDED, same version is already published

Summary

Package: epigraHMM
Version: 1.6.3
Command: /home/biocbuild/bbs-3.16-bioc/R/bin/R CMD check --install=check:epigraHMM.install-out.txt --library=/home/biocbuild/bbs-3.16-bioc/R/site-library --timings epigraHMM_1.6.3.tar.gz
StartedAt: 2023-03-22 20:42:14 -0400 (Wed, 22 Mar 2023)
EndedAt: 2023-03-22 20:55:48 -0400 (Wed, 22 Mar 2023)
EllapsedTime: 814.6 seconds
RetCode: 0
Status:   OK  
CheckDir: epigraHMM.Rcheck
Warnings: 0

Command output

##############################################################################
##############################################################################
###
### Running command:
###
###   /home/biocbuild/bbs-3.16-bioc/R/bin/R CMD check --install=check:epigraHMM.install-out.txt --library=/home/biocbuild/bbs-3.16-bioc/R/site-library --timings epigraHMM_1.6.3.tar.gz
###
##############################################################################
##############################################################################


* using log directory ‘/home/biocbuild/bbs-3.16-bioc/meat/epigraHMM.Rcheck’
* using R version 4.2.3 (2023-03-15)
* using platform: x86_64-pc-linux-gnu (64-bit)
* using session charset: UTF-8
* checking for file ‘epigraHMM/DESCRIPTION’ ... OK
* this is package ‘epigraHMM’ version ‘1.6.3’
* package encoding: UTF-8
* checking package namespace information ... OK
* checking package dependencies ... OK
* checking if this is a source package ... OK
* checking if there is a namespace ... OK
* checking for hidden files and directories ... OK
* checking for portable file names ... OK
* checking for sufficient/correct file permissions ... OK
* checking whether package ‘epigraHMM’ can be installed ... OK
* checking installed package size ... NOTE
  installed size is 29.7Mb
  sub-directories of 1Mb or more:
    libs  29.3Mb
* checking package directory ... OK
* checking ‘build’ directory ... OK
* checking DESCRIPTION meta-information ... OK
* checking top-level files ... OK
* checking for left-over files ... OK
* checking index information ... OK
* checking package subdirectories ... OK
* checking R files for non-ASCII characters ... OK
* checking R files for syntax errors ... OK
* checking whether the package can be loaded ... OK
* checking whether the package can be loaded with stated dependencies ... OK
* checking whether the package can be unloaded cleanly ... OK
* checking whether the namespace can be loaded with stated dependencies ... OK
* checking whether the namespace can be unloaded cleanly ... OK
* checking loading without being on the library search path ... OK
* checking dependencies in R code ... OK
* checking S3 generic/method consistency ... OK
* checking replacement functions ... OK
* checking foreign function calls ... OK
* checking R code for possible problems ... OK
* checking Rd files ... OK
* checking Rd metadata ... OK
* checking Rd cross-references ... OK
* checking for missing documentation entries ... OK
* checking for code/documentation mismatches ... OK
* checking Rd \usage sections ... OK
* checking Rd contents ... OK
* checking for unstated dependencies in examples ... OK
* checking contents of ‘data’ directory ... OK
* checking data for non-ASCII characters ... OK
* checking LazyData ... OK
* checking data for ASCII and uncompressed saves ... OK
* checking line endings in C/C++/Fortran sources/headers ... OK
* checking line endings in Makefiles ... OK
* checking compilation flags in Makevars ... OK
* checking for GNU extensions in Makefiles ... NOTE
GNU make is a SystemRequirements.
* checking for portable use of $(BLAS_LIBS) and $(LAPACK_LIBS) ... OK
* checking use of PKG_*FLAGS in Makefiles ... OK
* checking compiled code ... NOTE
Note: information on .o files is not available
File ‘/home/biocbuild/bbs-3.16-bioc/R/site-library/epigraHMM/libs/epigraHMM.so’:
  Found ‘abort’, possibly from ‘abort’ (C)
  Found ‘rand_r’, possibly from ‘rand_r’ (C)
  Found ‘stderr’, possibly from ‘stderr’ (C)
  Found ‘stdout’, possibly from ‘stdout’ (C)

Compiled code should not call entry points which might terminate R nor
write to stdout/stderr instead of to the console, nor use Fortran I/O
nor system RNGs. The detected symbols are linked into the code but
might come from libraries and not actually be called.

See ‘Writing portable packages’ in the ‘Writing R Extensions’ manual.
* checking files in ‘vignettes’ ... OK
* checking examples ... OK
Examples with CPU (user + system) or elapsed time > 5s
                          user system elapsed
epigraHMMDataSetFromBam 10.375  0.922  25.664
segmentGenome            8.865  1.453  13.310
plotPatterns             9.565  0.461   9.170
callPatterns             9.421  0.304   8.807
* checking for unstated dependencies in ‘tests’ ... OK
* checking tests ...
  Running ‘testthat.R’
 OK
* checking for unstated dependencies in vignettes ... OK
* checking package vignettes in ‘inst/doc’ ... OK
* checking running R code from vignettes ...
  ‘epigraHMM.Rmd’ using ‘UTF-8’... OK
 NONE
* checking re-building of vignette outputs ... OK
* checking PDF version of manual ... OK
* DONE

Status: 3 NOTEs
See
  ‘/home/biocbuild/bbs-3.16-bioc/meat/epigraHMM.Rcheck/00check.log’
for details.



Installation output

epigraHMM.Rcheck/00install.out

##############################################################################
##############################################################################
###
### Running command:
###
###   /home/biocbuild/bbs-3.16-bioc/R/bin/R CMD INSTALL epigraHMM
###
##############################################################################
##############################################################################


* installing to library ‘/home/biocbuild/bbs-3.16-bioc/R/site-library’
* installing *source* package ‘epigraHMM’ ...
** using staged installation
** libs
g++ -std=gnu++11 -I"/home/biocbuild/bbs-3.16-bioc/R/include" -DNDEBUG  -I'/home/biocbuild/bbs-3.16-bioc/R/site-library/Rcpp/include' -I'/home/biocbuild/bbs-3.16-bioc/R/site-library/RcppArmadillo/include' -I'/home/biocbuild/bbs-3.16-bioc/R/site-library/Rhdf5lib/include' -I/usr/local/include  -fopenmp -DARMA_USE_HDF5 -fpic  -g -O2  -Wall -c RcppExports.cpp -o RcppExports.o
g++ -std=gnu++11 -I"/home/biocbuild/bbs-3.16-bioc/R/include" -DNDEBUG  -I'/home/biocbuild/bbs-3.16-bioc/R/site-library/Rcpp/include' -I'/home/biocbuild/bbs-3.16-bioc/R/site-library/RcppArmadillo/include' -I'/home/biocbuild/bbs-3.16-bioc/R/site-library/Rhdf5lib/include' -I/usr/local/include  -fopenmp -DARMA_USE_HDF5 -fpic  -g -O2  -Wall -c aggregate.cpp -o aggregate.o
aggregate.cpp: In function ‘arma::mat aggregate(arma::vec, arma::vec)’:
aggregate.cpp:26:22: warning: comparison of integer expressions of different signedness: ‘int’ and ‘std::vector<double>::size_type’ {aka ‘long unsigned int’} [-Wsign-compare]
   26 |         while( index >= vec.size() ){
      |                ~~~~~~^~~~~~~~~~~~~
g++ -std=gnu++11 -I"/home/biocbuild/bbs-3.16-bioc/R/include" -DNDEBUG  -I'/home/biocbuild/bbs-3.16-bioc/R/site-library/Rcpp/include' -I'/home/biocbuild/bbs-3.16-bioc/R/site-library/RcppArmadillo/include' -I'/home/biocbuild/bbs-3.16-bioc/R/site-library/Rhdf5lib/include' -I/usr/local/include  -fopenmp -DARMA_USE_HDF5 -fpic  -g -O2  -Wall -c computeBIC.cpp -o computeBIC.o
g++ -std=gnu++11 -I"/home/biocbuild/bbs-3.16-bioc/R/include" -DNDEBUG  -I'/home/biocbuild/bbs-3.16-bioc/R/site-library/Rcpp/include' -I'/home/biocbuild/bbs-3.16-bioc/R/site-library/RcppArmadillo/include' -I'/home/biocbuild/bbs-3.16-bioc/R/site-library/Rhdf5lib/include' -I/usr/local/include  -fopenmp -DARMA_USE_HDF5 -fpic  -g -O2  -Wall -c computeQFunction.cpp -o computeQFunction.o
g++ -std=gnu++11 -I"/home/biocbuild/bbs-3.16-bioc/R/include" -DNDEBUG  -I'/home/biocbuild/bbs-3.16-bioc/R/site-library/Rcpp/include' -I'/home/biocbuild/bbs-3.16-bioc/R/site-library/RcppArmadillo/include' -I'/home/biocbuild/bbs-3.16-bioc/R/site-library/Rhdf5lib/include' -I/usr/local/include  -fopenmp -DARMA_USE_HDF5 -fpic  -g -O2  -Wall -c computeViterbiSequence.cpp -o computeViterbiSequence.o
g++ -std=gnu++11 -I"/home/biocbuild/bbs-3.16-bioc/R/include" -DNDEBUG  -I'/home/biocbuild/bbs-3.16-bioc/R/site-library/Rcpp/include' -I'/home/biocbuild/bbs-3.16-bioc/R/site-library/RcppArmadillo/include' -I'/home/biocbuild/bbs-3.16-bioc/R/site-library/Rhdf5lib/include' -I/usr/local/include  -fopenmp -DARMA_USE_HDF5 -fpic  -g -O2  -Wall -c consensusRejectionControlled.cpp -o consensusRejectionControlled.o
g++ -std=gnu++11 -I"/home/biocbuild/bbs-3.16-bioc/R/include" -DNDEBUG  -I'/home/biocbuild/bbs-3.16-bioc/R/site-library/Rcpp/include' -I'/home/biocbuild/bbs-3.16-bioc/R/site-library/RcppArmadillo/include' -I'/home/biocbuild/bbs-3.16-bioc/R/site-library/Rhdf5lib/include' -I/usr/local/include  -fopenmp -DARMA_USE_HDF5 -fpic  -g -O2  -Wall -c differentialRejectionControlled.cpp -o differentialRejectionControlled.o
g++ -std=gnu++11 -I"/home/biocbuild/bbs-3.16-bioc/R/include" -DNDEBUG  -I'/home/biocbuild/bbs-3.16-bioc/R/site-library/Rcpp/include' -I'/home/biocbuild/bbs-3.16-bioc/R/site-library/RcppArmadillo/include' -I'/home/biocbuild/bbs-3.16-bioc/R/site-library/Rhdf5lib/include' -I/usr/local/include  -fopenmp -DARMA_USE_HDF5 -fpic  -g -O2  -Wall -c expStep.cpp -o expStep.o
g++ -std=gnu++11 -I"/home/biocbuild/bbs-3.16-bioc/R/include" -DNDEBUG  -I'/home/biocbuild/bbs-3.16-bioc/R/site-library/Rcpp/include' -I'/home/biocbuild/bbs-3.16-bioc/R/site-library/RcppArmadillo/include' -I'/home/biocbuild/bbs-3.16-bioc/R/site-library/Rhdf5lib/include' -I/usr/local/include  -fopenmp -DARMA_USE_HDF5 -fpic  -g -O2  -Wall -c getMarginalProbability.cpp -o getMarginalProbability.o
g++ -std=gnu++11 -I"/home/biocbuild/bbs-3.16-bioc/R/include" -DNDEBUG  -I'/home/biocbuild/bbs-3.16-bioc/R/site-library/Rcpp/include' -I'/home/biocbuild/bbs-3.16-bioc/R/site-library/RcppArmadillo/include' -I'/home/biocbuild/bbs-3.16-bioc/R/site-library/Rhdf5lib/include' -I/usr/local/include  -fopenmp -DARMA_USE_HDF5 -fpic  -g -O2  -Wall -c innerMaxStepProb.cpp -o innerMaxStepProb.o
g++ -std=gnu++11 -I"/home/biocbuild/bbs-3.16-bioc/R/include" -DNDEBUG  -I'/home/biocbuild/bbs-3.16-bioc/R/site-library/Rcpp/include' -I'/home/biocbuild/bbs-3.16-bioc/R/site-library/RcppArmadillo/include' -I'/home/biocbuild/bbs-3.16-bioc/R/site-library/Rhdf5lib/include' -I/usr/local/include  -fopenmp -DARMA_USE_HDF5 -fpic  -g -O2  -Wall -c maxStepProb.cpp -o maxStepProb.o
g++ -std=gnu++11 -I"/home/biocbuild/bbs-3.16-bioc/R/include" -DNDEBUG  -I'/home/biocbuild/bbs-3.16-bioc/R/site-library/Rcpp/include' -I'/home/biocbuild/bbs-3.16-bioc/R/site-library/RcppArmadillo/include' -I'/home/biocbuild/bbs-3.16-bioc/R/site-library/Rhdf5lib/include' -I/usr/local/include  -fopenmp -DARMA_USE_HDF5 -fpic  -g -O2  -Wall -c rbinomVectorized.cpp -o rbinomVectorized.o
g++ -std=gnu++11 -I"/home/biocbuild/bbs-3.16-bioc/R/include" -DNDEBUG  -I'/home/biocbuild/bbs-3.16-bioc/R/site-library/Rcpp/include' -I'/home/biocbuild/bbs-3.16-bioc/R/site-library/RcppArmadillo/include' -I'/home/biocbuild/bbs-3.16-bioc/R/site-library/Rhdf5lib/include' -I/usr/local/include  -fopenmp -DARMA_USE_HDF5 -fpic  -g -O2  -Wall -c reweight.cpp -o reweight.o
g++ -std=gnu++11 -I"/home/biocbuild/bbs-3.16-bioc/R/include" -DNDEBUG  -I'/home/biocbuild/bbs-3.16-bioc/R/site-library/Rcpp/include' -I'/home/biocbuild/bbs-3.16-bioc/R/site-library/RcppArmadillo/include' -I'/home/biocbuild/bbs-3.16-bioc/R/site-library/Rhdf5lib/include' -I/usr/local/include  -fopenmp -DARMA_USE_HDF5 -fpic  -g -O2  -Wall -c simulateMarkovChain.cpp -o simulateMarkovChain.o
g++ -std=gnu++11 -shared -L/home/biocbuild/bbs-3.16-bioc/R/lib -L/usr/local/lib -o epigraHMM.so RcppExports.o aggregate.o computeBIC.o computeQFunction.o computeViterbiSequence.o consensusRejectionControlled.o differentialRejectionControlled.o expStep.o getMarginalProbability.o innerMaxStepProb.o maxStepProb.o rbinomVectorized.o reweight.o simulateMarkovChain.o /home/biocbuild/bbs-3.16-bioc/R/site-library/Rhdf5lib/lib/libhdf5_cpp.a /home/biocbuild/bbs-3.16-bioc/R/site-library/Rhdf5lib/lib/libhdf5.a -lcrypto -lcurl -lsz -laec -lz -ldl -lm -fopenmp -L/home/biocbuild/bbs-3.16-bioc/R/lib -lRlapack -L/home/biocbuild/bbs-3.16-bioc/R/lib -lRblas -lgfortran -lm -lquadmath -L/home/biocbuild/bbs-3.16-bioc/R/lib -lR
installing to /home/biocbuild/bbs-3.16-bioc/R/site-library/00LOCK-epigraHMM/00new/epigraHMM/libs
** R
** data
*** moving datasets to lazyload DB
** byte-compile and prepare package for lazy loading
** help
*** installing help indices
** building package indices
** installing vignettes
** testing if installed package can be loaded from temporary location
** checking absolute paths in shared objects and dynamic libraries
** testing if installed package can be loaded from final location
** testing if installed package keeps a record of temporary installation path
* DONE (epigraHMM)

Tests output

epigraHMM.Rcheck/tests/testthat.Rout


R version 4.2.3 (2023-03-15) -- "Shortstop Beagle"
Copyright (C) 2023 The R Foundation for Statistical Computing
Platform: x86_64-pc-linux-gnu (64-bit)

R is free software and comes with ABSOLUTELY NO WARRANTY.
You are welcome to redistribute it under certain conditions.
Type 'license()' or 'licence()' for distribution details.

R is a collaborative project with many contributors.
Type 'contributors()' for more information and
'citation()' on how to cite R or R packages in publications.

Type 'demo()' for some demos, 'help()' for on-line help, or
'help.start()' for an HTML browser interface to help.
Type 'q()' to quit R.

> library(testthat)
> library(epigraHMM)
> 
> test_check("epigraHMM")
[ FAIL 0 | WARN 0 | SKIP 0 | PASS 65 ]
> 
> proc.time()
   user  system elapsed 
 67.524   2.309  79.705 

Example timings

epigraHMM.Rcheck/epigraHMM-Ex.timings

nameusersystemelapsed
addOffsets1.0900.0411.130
callPatterns9.4210.3048.807
callPeaks1.1590.0400.802
cleanCounts0.7150.0560.585
controlEM0.0000.0000.001
epigraHMM1.0190.0500.680
epigraHMMDataSetFromBam10.375 0.92225.664
epigraHMMDataSetFromMatrix0.1090.0080.117
estimateTransitionProb0.0030.0000.003
expStep0.9920.0420.655
helas30.0180.0000.013
info0.9640.0180.604
initializer0.6830.0240.457
maxStepProb1.0200.0350.669
normalizeCounts0.2650.0280.225
plotCounts0.3630.0320.395
plotPatterns9.5650.4619.170
segmentGenome 8.865 1.45313.310
simulateMarkovChain0.0010.0000.000