![]() | Name | Last modified | Size | Description |
---|---|---|---|---|
![]() | Parent Directory | - | ||
![]() | buildbin-out.txt | 30-Sep-2023 00:37 | 1.2K | |
![]() | buildbin-summary.dcf | 30-Sep-2023 00:37 | 543 | |
![]() | buildsrc-out.txt | 30-Sep-2023 00:37 | 824 | |
![]() | buildsrc-summary.dcf | 30-Sep-2023 00:37 | 434 | |
![]() | checksrc-out.txt | 30-Sep-2023 00:37 | 3.6K | |
![]() | checksrc-summary.dcf | 30-Sep-2023 00:37 | 453 | |
![]() | install-out.txt | 30-Sep-2023 00:37 | 1.0K | |
![]() | install-summary.dcf | 30-Sep-2023 00:37 | 274 | |