Index of /checkResults/release/bioc-LATEST/ensembldb/raw-results
Name
Last modified
Size
Description
Parent Directory
-
nebbiolo1/
03-Oct-2023 00:35
-
palomino3/
03-Oct-2023 00:36
-
info.dcf
03-Oct-2023 00:37
283
merida1/
03-Oct-2023 00:37
-