Name | Last modified | Size | Description | |
---|---|---|---|---|
Parent Directory | - | |||
install-out.txt | 12-Jun-2024 03:43 | 1.2K | ||
install-summary.dcf | 12-Jun-2024 03:43 | 271 | ||
buildsrc-out.txt | 12-Jun-2024 03:43 | 860 | ||
buildsrc-summary.dcf | 12-Jun-2024 03:43 | 431 | ||
checksrc-out.txt | 12-Jun-2024 03:43 | 4.0K | ||
checksrc-summary.dcf | 12-Jun-2024 03:43 | 448 | ||
buildbin-summary.dcf | 12-Jun-2024 03:43 | 537 | ||
buildbin-out.txt | 12-Jun-2024 03:43 | 1.4K | ||