Name | Last modified | Size | Description | |
---|---|---|---|---|
Parent Directory | - | |||
install-summary.dcf | 26-Jun-2024 06:40 | 260 | ||
install-out.txt | 26-Jun-2024 06:40 | 1.5K | ||
checksrc-summary.dcf | 26-Jun-2024 06:40 | 431 | ||
checksrc-out.txt | 26-Jun-2024 06:40 | 5.0K | ||
buildsrc-summary.dcf | 26-Jun-2024 06:40 | 436 | ||
buildsrc-out.txt | 26-Jun-2024 06:40 | 911 | ||
buildbin-summary.dcf | 26-Jun-2024 06:40 | 491 | ||
buildbin-out.txt | 26-Jun-2024 06:40 | 1.6K | ||