Index of /checkResults/release/bioc-LATEST/eiR/raw-results
Name
Last modified
Size
Description
Parent Directory
-
merida1/
05-Mar-2024 01:39
-
info.dcf
04-May-2024 00:35
263
nebbiolo1/
04-May-2024 00:36
-
palomino3/
04-May-2024 00:38
-
lconway/
04-May-2024 00:39
-
kunpeng2/
04-May-2024 00:40
-