Index of /checkResults/release/bioc-LATEST/eegc/raw-results/kjohnson3
Name
Last modified
Size
Description
Parent Directory
-
install-out.txt
12-Jun-2024 03:43
1.2K
install-summary.dcf
12-Jun-2024 03:43
263
buildsrc-out.txt
12-Jun-2024 03:43
1.4K
buildsrc-summary.dcf
12-Jun-2024 03:43
338