Index of /checkResults/release/bioc-LATEST/ecolitk/raw-results/palomino4

[ICO]NameLast modifiedSizeDescription

[DIR]Parent Directory  -  
[   ]install-summary.dcf30-Mar-2024 00:36 268  
[   ]buildsrc-summary.dcf30-Mar-2024 00:36 452  
[   ]checksrc-summary.dcf30-Mar-2024 00:36 452  
[   ]buildbin-summary.dcf30-Mar-2024 00:36 514  
[TXT]buildsrc-out.txt30-Mar-2024 00:36 899  
[TXT]install-out.txt30-Mar-2024 00:36 1.0K 
[TXT]buildbin-out.txt30-Mar-2024 00:36 1.2K 
[TXT]checksrc-out.txt30-Mar-2024 00:36 4.2K