Index of /checkResults/release/bioc-LATEST/ecolitk/raw-results/palomino4

[ICO]NameLast modifiedSizeDescription

[DIR]Parent Directory  -  
[TXT]buildbin-out.txt23-Feb-2024 01:36 1.2K 
[   ]buildbin-summary.dcf23-Feb-2024 01:36 514  
[TXT]buildsrc-out.txt23-Feb-2024 01:36 899  
[   ]buildsrc-summary.dcf23-Feb-2024 01:36 452  
[TXT]checksrc-out.txt23-Feb-2024 01:36 4.2K 
[   ]checksrc-summary.dcf23-Feb-2024 01:36 452  
[TXT]install-out.txt23-Feb-2024 01:36 1.0K 
[   ]install-summary.dcf23-Feb-2024 01:36 267