Index of /checkResults/release/bioc-LATEST/ecolitk/raw-results/nebbiolo2

[ICO]NameLast modifiedSizeDescription

[DIR]Parent Directory  -  
[TXT]buildsrc-out.txt30-Mar-2024 00:35 869  
[   ]buildsrc-summary.dcf30-Mar-2024 00:35 417  
[TXT]checksrc-out.txt30-Mar-2024 00:35 4.2K 
[   ]checksrc-summary.dcf30-Mar-2024 00:35 419  
[TXT]install-out.txt30-Mar-2024 00:35 1.0K 
[   ]install-summary.dcf30-Mar-2024 00:35 258