Name | Last modified | Size | Description | |
---|---|---|---|---|
Parent Directory | - | |||
checksrc-out.txt | 27-Jul-2024 06:38 | 4.1K | ||
install-out.txt | 27-Jul-2024 06:38 | 1.0K | ||
buildsrc-out.txt | 27-Jul-2024 06:38 | 869 | ||
checksrc-summary.dcf | 27-Jul-2024 06:38 | 419 | ||
buildsrc-summary.dcf | 27-Jul-2024 06:38 | 417 | ||
install-summary.dcf | 27-Jul-2024 06:38 | 258 | ||