Name | Last modified | Size | Description | |
---|---|---|---|---|
Parent Directory | - | |||
install-summary.dcf | 24-Jul-2024 22:05 | 268 | ||
buildsrc-summary.dcf | 24-Jul-2024 22:05 | 427 | ||
checksrc-summary.dcf | 24-Jul-2024 22:05 | 449 | ||
buildbin-summary.dcf | 24-Jul-2024 22:05 | 529 | ||
buildsrc-out.txt | 24-Jul-2024 22:05 | 879 | ||
install-out.txt | 24-Jul-2024 22:05 | 1.0K | ||
buildbin-out.txt | 24-Jul-2024 22:05 | 1.2K | ||
checksrc-out.txt | 24-Jul-2024 22:05 | 4.2K | ||