![]() | Name | Last modified | Size | Description |
---|---|---|---|---|
![]() | Parent Directory | - | ||
![]() | buildsrc-out.txt | 24-Sep-2023 00:34 | 1.1K | |
![]() | buildsrc-summary.dcf | 24-Sep-2023 00:34 | 433 | |
![]() | checksrc-out.txt | 24-Sep-2023 00:34 | 3.3K | |
![]() | checksrc-summary.dcf | 24-Sep-2023 00:34 | 437 | |
![]() | install-out.txt | 24-Sep-2023 00:34 | 970 | |
![]() | install-summary.dcf | 24-Sep-2023 00:34 | 270 | |