Back to Multiple platform build/check report for BioC 3.18:   simplified   long
ABCD[E]FGHIJKLMNOPQRSTUVWXYZ

This page was generated on 2024-03-29 11:36:44 -0400 (Fri, 29 Mar 2024).

HostnameOSArch (*)R versionInstalled pkgs
nebbiolo2Linux (Ubuntu 22.04.3 LTS)x86_644.3.3 (2024-02-29) -- "Angel Food Cake" 4669
palomino4Windows Server 2022 Datacenterx644.3.3 (2024-02-29 ucrt) -- "Angel Food Cake" 4404
merida1macOS 12.7.1 Montereyx86_644.3.3 (2024-02-29) -- "Angel Food Cake" 4427
Click on any hostname to see more info about the system (e.g. compilers)      (*) as reported by 'uname -p', except on Windows and Mac OS X

Package 614/2266HostnameOS / ArchINSTALLBUILDCHECKBUILD BIN
easyreporting 1.14.0  (landing page)
Dario Righelli
Snapshot Date: 2024-03-27 14:05:05 -0400 (Wed, 27 Mar 2024)
git_url: https://git.bioconductor.org/packages/easyreporting
git_branch: RELEASE_3_18
git_last_commit: 84e6e96
git_last_commit_date: 2023-10-24 11:18:46 -0400 (Tue, 24 Oct 2023)
nebbiolo2Linux (Ubuntu 22.04.3 LTS) / x86_64  OK    OK    OK  UNNEEDED, same version is already published
palomino4Windows Server 2022 Datacenter / x64  OK    OK    OK    OK  UNNEEDED, same version is already published
merida1macOS 12.7.1 Monterey / x86_64  OK    OK    OK    OK  UNNEEDED, same version is already published
kjohnson1macOS 13.6.1 Ventura / arm64see weekly results here

CHECK results for easyreporting on palomino4


To the developers/maintainers of the easyreporting package:
- Allow up to 24 hours (and sometimes 48 hours) for your latest push to git@git.bioconductor.org:packages/easyreporting.git to reflect on this report. See Troubleshooting Build Report for more information.
- Use the following Renviron settings to reproduce errors and warnings.
- If 'R CMD check' started to fail recently on the Linux builder(s) over a missing dependency, add the missing dependency to 'Suggests:' in your DESCRIPTION file. See Renviron.bioc for more information.

raw results


Summary

Package: easyreporting
Version: 1.14.0
Command: F:\biocbuild\bbs-3.18-bioc\R\bin\R.exe CMD check --no-multiarch --install=check:easyreporting.install-out.txt --library=F:\biocbuild\bbs-3.18-bioc\R\library --no-vignettes --timings easyreporting_1.14.0.tar.gz
StartedAt: 2024-03-28 00:28:32 -0400 (Thu, 28 Mar 2024)
EndedAt: 2024-03-28 00:29:06 -0400 (Thu, 28 Mar 2024)
EllapsedTime: 33.8 seconds
RetCode: 0
Status:   OK  
CheckDir: easyreporting.Rcheck
Warnings: 0

Command output

##############################################################################
##############################################################################
###
### Running command:
###
###   F:\biocbuild\bbs-3.18-bioc\R\bin\R.exe CMD check --no-multiarch --install=check:easyreporting.install-out.txt --library=F:\biocbuild\bbs-3.18-bioc\R\library --no-vignettes --timings easyreporting_1.14.0.tar.gz
###
##############################################################################
##############################################################################


* using log directory 'F:/biocbuild/bbs-3.18-bioc/meat/easyreporting.Rcheck'
* using R version 4.3.3 (2024-02-29 ucrt)
* using platform: x86_64-w64-mingw32 (64-bit)
* R was compiled by
    gcc.exe (GCC) 12.3.0
    GNU Fortran (GCC) 12.3.0
* running under: Windows Server 2022 x64 (build 20348)
* using session charset: UTF-8
* using option '--no-vignettes'
* checking for file 'easyreporting/DESCRIPTION' ... OK
* checking extension type ... Package
* this is package 'easyreporting' version '1.14.0'
* package encoding: UTF-8
* checking package namespace information ... OK
* checking package dependencies ... OK
* checking if this is a source package ... OK
* checking if there is a namespace ... OK
* checking for hidden files and directories ... OK
* checking for portable file names ... OK
* checking whether package 'easyreporting' can be installed ... OK
* checking installed package size ... OK
* checking package directory ... OK
* checking 'build' directory ... OK
* checking DESCRIPTION meta-information ... OK
* checking top-level files ... OK
* checking for left-over files ... OK
* checking index information ... OK
* checking package subdirectories ... OK
* checking R files for non-ASCII characters ... OK
* checking R files for syntax errors ... OK
* checking whether the package can be loaded ... OK
* checking whether the package can be loaded with stated dependencies ... OK
* checking whether the package can be unloaded cleanly ... OK
* checking whether the namespace can be loaded with stated dependencies ... OK
* checking whether the namespace can be unloaded cleanly ... OK
* checking dependencies in R code ... OK
* checking S3 generic/method consistency ... OK
* checking replacement functions ... OK
* checking foreign function calls ... OK
* checking R code for possible problems ... OK
* checking Rd files ... OK
* checking Rd metadata ... OK
* checking Rd cross-references ... NOTE
Package unavailable to check Rd xrefs: 'link'
* checking for missing documentation entries ... OK
* checking for code/documentation mismatches ... OK
* checking Rd \usage sections ... OK
* checking Rd contents ... OK
* checking for unstated dependencies in examples ... OK
* checking files in 'vignettes' ... OK
* checking examples ... OK
* checking for unstated dependencies in vignettes ... OK
* checking package vignettes in 'inst/doc' ... OK
* checking running R code from vignettes ... SKIPPED
* checking re-building of vignette outputs ... SKIPPED
* checking PDF version of manual ... OK
* DONE

Status: 1 NOTE
See
  'F:/biocbuild/bbs-3.18-bioc/meat/easyreporting.Rcheck/00check.log'
for details.



Installation output

easyreporting.Rcheck/00install.out

##############################################################################
##############################################################################
###
### Running command:
###
###   F:\biocbuild\bbs-3.18-bioc\R\bin\R.exe CMD INSTALL easyreporting
###
##############################################################################
##############################################################################


* installing to library 'F:/biocbuild/bbs-3.18-bioc/R/library'
* installing *source* package 'easyreporting' ...
** using staged installation
** R
** inst
** byte-compile and prepare package for lazy loading
** help
*** installing help indices
** building package indices
** installing vignettes
** testing if installed package can be loaded from temporary location
** testing if installed package can be loaded from final location
** testing if installed package keeps a record of temporary installation path
* DONE (easyreporting)

Tests output


Example timings

easyreporting.Rcheck/easyreporting-Ex.timings

nameusersystemelapsed
addResource-easyreporting-method000
addResource0.030.000.03
compile-easyreporting-method000
compile000
easyreporting-class000
erGUIVolcano000
getBibliography-easyreporting-method0.010.020.03
getBibliography000
getOptionsList-easyreporting-method000
getOptionsList000
getReportFilename-easyreporting-method000
getReportFilename000
makeOptionsList000
mkdCodeChunkCommented-easyreporting-method000
mkdCodeChunkCommented000
mkdCodeChunkComplete-easyreporting-method000
mkdCodeChunkComplete000
mkdCodeChunkEnd-easyreporting-method000
mkdCodeChunkEnd000
mkdCodeChunkSt-easyreporting-method000
mkdCodeChunkSt000
mkdCodeChunkTitledCommented-easyreporting-method000
mkdCodeChunkTitledCommented000
mkdGeneralMsg-easyreporting-method000
mkdGeneralMsg000
mkdGeneralTitledMsg-easyreporting-method000
mkdGeneralTitledMsg000
mkdTitle-easyreporting-method000
mkdTitle000
mkdVariableAssignment-easyreporting-method000
mkdVariableAssignment000
setBibliography-easyreporting-method000
setBibliography000
setOptionsList-easyreporting-method000
setOptionsList000