Back to Multiple platform build/check report for BioC 3.16: simplified long |
|
This page was generated on 2023-03-17 11:05:53 -0400 (Fri, 17 Mar 2023).
Hostname | OS | Arch (*) | R version | Installed pkgs |
---|---|---|---|---|
nebbiolo2 | Linux (Ubuntu 20.04.5 LTS) | x86_64 | 4.2.2 (2022-10-31) -- "Innocent and Trusting" | 4516 |
palomino4 | Windows Server 2022 Datacenter | x64 | 4.2.2 (2022-10-31 ucrt) -- "Innocent and Trusting" | 4295 |
lconway | macOS 12.5.1 Monterey | x86_64 | 4.2.2 (2022-10-31) -- "Innocent and Trusting" | 4324 |
Click on any hostname to see more info about the system (e.g. compilers) (*) as reported by 'uname -p', except on Windows and Mac OS X |
To the developers/maintainers of the easyreporting package: - Please allow up to 24 hours (and sometimes 48 hours) for your latest push to git@git.bioconductor.org:packages/easyreporting.git to reflect on this report. See How and When does the builder pull? When will my changes propagate? for more information. - Make sure to use the following settings in order to reproduce any error or warning you see on this page. |
Package 584/2183 | Hostname | OS / Arch | INSTALL | BUILD | CHECK | BUILD BIN | ||||||||
easyreporting 1.10.0 (landing page) Dario Righelli
| nebbiolo2 | Linux (Ubuntu 20.04.5 LTS) / x86_64 | OK | OK | OK | ![]() | ||||||||
palomino4 | Windows Server 2022 Datacenter / x64 | OK | OK | OK | OK | ![]() | ||||||||
lconway | macOS 12.5.1 Monterey / x86_64 | OK | OK | OK | OK | ![]() | ||||||||
Package: easyreporting |
Version: 1.10.0 |
Command: chmod a+r easyreporting -R && F:\biocbuild\bbs-3.16-bioc\R\bin\R.exe CMD build --keep-empty-dirs --no-resave-data easyreporting |
StartedAt: 2023-03-15 18:22:23 -0400 (Wed, 15 Mar 2023) |
EndedAt: 2023-03-15 18:22:40 -0400 (Wed, 15 Mar 2023) |
EllapsedTime: 16.8 seconds |
RetCode: 0 |
Status: OK |
PackageFile: easyreporting_1.10.0.tar.gz |
PackageFileSize: 2.94 MiB |
############################################################################## ############################################################################## ### ### Running command: ### ### chmod a+r easyreporting -R && F:\biocbuild\bbs-3.16-bioc\R\bin\R.exe CMD build --keep-empty-dirs --no-resave-data easyreporting ### ############################################################################## ############################################################################## * checking for file 'easyreporting/DESCRIPTION' ... OK * preparing 'easyreporting': * checking DESCRIPTION meta-information ... OK * installing the package to build vignettes * creating vignettes ... OK * checking for LF line-endings in source and make files and shell scripts * checking for empty or unneeded directories Omitted 'LazyData' from DESCRIPTION NB: this package now depends on R (>= 3.5.0) WARNING: Added dependency on R >= 3.5.0 because serialized objects in serialize/load version 3 cannot be read in older versions of R. File(s) containing such objects: 'easyreporting/inst/shiny_examples/volcano_app/degs.RDS' * building 'easyreporting_1.10.0.tar.gz'