Name | Last modified | Size | Description | |
---|---|---|---|---|
Parent Directory | - | |||
buildsrc-out.txt | 17-Jul-2024 06:38 | 954 | ||
buildsrc-summary.dcf | 17-Jul-2024 06:38 | 419 | ||
checksrc-out.txt | 17-Jul-2024 06:38 | 5.1K | ||
checksrc-summary.dcf | 17-Jul-2024 06:38 | 417 | ||
install-out.txt | 17-Jul-2024 06:38 | 16K | ||
install-summary.dcf | 17-Jul-2024 06:38 | 260 | ||