Name | Last modified | Size | Description | |
---|---|---|---|---|
Parent Directory | - | |||
buildbin-out.txt | 17-Jul-2024 06:41 | 13K | ||
install-out.txt | 17-Jul-2024 06:41 | 11K | ||
checksrc-out.txt | 17-Jul-2024 06:41 | 6.1K | ||
buildsrc-out.txt | 17-Jul-2024 06:41 | 964 | ||
buildbin-summary.dcf | 17-Jul-2024 06:41 | 534 | ||
checksrc-summary.dcf | 17-Jul-2024 06:41 | 447 | ||
buildsrc-summary.dcf | 17-Jul-2024 06:41 | 430 | ||
install-summary.dcf | 17-Jul-2024 06:41 | 271 | ||