Name | Last modified | Size | Description | |
---|---|---|---|---|
Parent Directory | - | |||
install-out.txt | 10-May-2024 00:40 | 16K | ||
checksrc-out.txt | 10-May-2024 00:40 | 5.3K | ||
buildsrc-out.txt | 10-May-2024 00:40 | 965 | ||
checksrc-summary.dcf | 10-May-2024 00:40 | 453 | ||
buildsrc-summary.dcf | 10-May-2024 00:40 | 430 | ||
install-summary.dcf | 10-May-2024 00:40 | 272 | ||