Name | Last modified | Size | Description | |
---|---|---|---|---|
Parent Directory | - | |||
install-summary.dcf | 12-Jun-2024 03:43 | 270 | ||
buildsrc-summary.dcf | 12-Jun-2024 03:43 | 429 | ||
checksrc-summary.dcf | 12-Jun-2024 03:43 | 447 | ||
buildbin-summary.dcf | 12-Jun-2024 03:43 | 534 | ||
buildsrc-out.txt | 12-Jun-2024 03:43 | 964 | ||
checksrc-out.txt | 12-Jun-2024 03:43 | 6.0K | ||
install-out.txt | 12-Jun-2024 03:43 | 11K | ||
buildbin-out.txt | 12-Jun-2024 03:43 | 13K | ||