Back to Multiple platform build/check report for BioC 3.14
ABC[D]EFGHIJKLMNOPQRSTUVWXYZ

This page was generated on 2021-12-01 17:17:47 -0500 (Wed, 01 Dec 2021).

INSTALL results for dmrseq on tokay2

To the developers/maintainers of the dmrseq package:
- Please allow up to 24 hours (and sometimes 48 hours) for your latest push to git@git.bioconductor.org:packages/dmrseq.git to
reflect on this report. See How and When does the builder pull? When will my changes propagate? here for more information.
- Make sure to use the following settings in order to reproduce any error or warning you see on this page.

raw results

Package 529/2083HostnameOS / ArchINSTALLBUILDCHECKBUILD BIN
dmrseq 1.14.0  (landing page)
Keegan Korthauer
Snapshot Date: 2021-11-30 04:15:05 -0500 (Tue, 30 Nov 2021)
git_url: https://git.bioconductor.org/packages/dmrseq
git_branch: RELEASE_3_14
git_last_commit: ae24c3a
git_last_commit_date: 2021-10-26 12:42:12 -0500 (Tue, 26 Oct 2021)
nebbiolo2Linux (Ubuntu 20.04.3 LTS) / x86_64  OK    OK    WARNINGS  UNNEEDED, same version is already published
tokay2Windows Server 2012 R2 Standard / x64  OK    OK    WARNINGS    OK  UNNEEDED, same version is already published
machv2macOS 10.14.6 Mojave / x86_64  OK    OK    WARNINGS    OK  UNNEEDED, same version is already published

Summary

Package: dmrseq
Version: 1.14.0
Command: C:\cygwin\bin\curl.exe -O http://155.52.207.166/BBS/3.14/bioc/src/contrib/dmrseq_1.14.0.tar.gz && rm -rf dmrseq.buildbin-libdir && mkdir dmrseq.buildbin-libdir && C:\Users\biocbuild\bbs-3.14-bioc\R\bin\R.exe CMD INSTALL --merge-multiarch --build --library=dmrseq.buildbin-libdir dmrseq_1.14.0.tar.gz && C:\Users\biocbuild\bbs-3.14-bioc\R\bin\R.exe CMD INSTALL dmrseq_1.14.0.zip && rm dmrseq_1.14.0.tar.gz dmrseq_1.14.0.zip
StartedAt: 2021-11-30 09:57:58 -0500 (Tue, 30 Nov 2021)
EndedAt: 2021-11-30 09:59:21 -0500 (Tue, 30 Nov 2021)
EllapsedTime: 83.2 seconds
RetCode: 0
Status:   OK  

Command output

##############################################################################
##############################################################################
###
### Running command:
###
###   C:\cygwin\bin\curl.exe -O http://155.52.207.166/BBS/3.14/bioc/src/contrib/dmrseq_1.14.0.tar.gz && rm -rf dmrseq.buildbin-libdir && mkdir dmrseq.buildbin-libdir && C:\Users\biocbuild\bbs-3.14-bioc\R\bin\R.exe CMD INSTALL --merge-multiarch --build --library=dmrseq.buildbin-libdir dmrseq_1.14.0.tar.gz && C:\Users\biocbuild\bbs-3.14-bioc\R\bin\R.exe CMD INSTALL dmrseq_1.14.0.zip && rm dmrseq_1.14.0.tar.gz dmrseq_1.14.0.zip
###
##############################################################################
##############################################################################


  % Total    % Received % Xferd  Average Speed   Time    Time     Time  Current
                                 Dload  Upload   Total   Spent    Left  Speed

  0     0    0     0    0     0      0      0 --:--:-- --:--:-- --:--:--     0
 35 2287k   35  819k    0     0  1580k      0  0:00:01 --:--:--  0:00:01 1579k
100 2287k  100 2287k    0     0  2209k      0  0:00:01  0:00:01 --:--:-- 2212k

install for i386

* installing *source* package 'dmrseq' ...
** using staged installation
** R
** data
*** moving datasets to lazyload DB
** inst
** byte-compile and prepare package for lazy loading
** help
*** installing help indices
  converting help for package 'dmrseq'
    finding HTML links ... done
    BS.chr21                                html  
    annot.chr21                             html  
    dmrPlotAnnotations                      html  
    dmrs.ex                                 html  
    dmrseq                                  html  
    getAnnot                                html  
    meanDiff                                html  
    plotDMRs                                html  
    plotEmpiricalDistribution               html  
    simDMRs                                 html  
** building package indices
** installing vignettes
** testing if installed package can be loaded from temporary location
** testing if installed package can be loaded from final location
** testing if installed package keeps a record of temporary installation path

install for x64

* installing *source* package 'dmrseq' ...
** testing if installed package can be loaded
* MD5 sums
packaged installation of 'dmrseq' as dmrseq_1.14.0.zip
* DONE (dmrseq)
* installing to library 'C:/Users/biocbuild/bbs-3.14-bioc/R/library'
package 'dmrseq' successfully unpacked and MD5 sums checked